BEGIN:VCALENDAR
VERSION:2.0
PRODID:-//Sunny Haven - ECPv6.15.20//NONSGML v1.0//EN
CALSCALE:GREGORIAN
METHOD:PUBLISH
X-ORIGINAL-URL:https://www.sunnyhaven.com
X-WR-CALDESC:Events for Sunny Haven
REFRESH-INTERVAL;VALUE=DURATION:PT1H
X-Robots-Tag:noindex
X-PUBLISHED-TTL:PT1H
BEGIN:VTIMEZONE
TZID:America/Indiana/Indianapolis
BEGIN:DAYLIGHT
TZOFFSETFROM:-0500
TZOFFSETTO:-0400
TZNAME:EDT
DTSTART:20230312T070000
END:DAYLIGHT
BEGIN:STANDARD
TZOFFSETFROM:-0400
TZOFFSETTO:-0500
TZNAME:EST
DTSTART:20231105T060000
END:STANDARD
BEGIN:DAYLIGHT
TZOFFSETFROM:-0500
TZOFFSETTO:-0400
TZNAME:EDT
DTSTART:20240310T070000
END:DAYLIGHT
BEGIN:STANDARD
TZOFFSETFROM:-0400
TZOFFSETTO:-0500
TZNAME:EST
DTSTART:20241103T060000
END:STANDARD
BEGIN:DAYLIGHT
TZOFFSETFROM:-0500
TZOFFSETTO:-0400
TZNAME:EDT
DTSTART:20250309T070000
END:DAYLIGHT
BEGIN:STANDARD
TZOFFSETFROM:-0400
TZOFFSETTO:-0500
TZNAME:EST
DTSTART:20251102T060000
END:STANDARD
END:VTIMEZONE
BEGIN:VEVENT
DTSTART;TZID=America/Indiana/Indianapolis:20240921T140000
DTEND;TZID=America/Indiana/Indianapolis:20240921T140000
DTSTAMP:20260423T154005
CREATED:20240522T004117Z
LAST-MODIFIED:20240522T004121Z
UID:1319-1726927200-1726927200@www.sunnyhaven.com
SUMMARY:Wine and Cheese
DESCRIPTION:Bring your favorite bottle of wine (or even beer) and cheeses to share.  Snacks are also very welcome! Mix and mingle\, and find a new favorite!  Location is dependent upon weather.
URL:https://www.sunnyhaven.com/event/wine-and-cheese-5/
CATEGORIES:Wine and Cheese
END:VEVENT
BEGIN:VEVENT
DTSTART;TZID=America/Indiana/Indianapolis:20240901T190000
DTEND;TZID=America/Indiana/Indianapolis:20240901T190000
DTSTAMP:20260423T154005
CREATED:20240522T003549Z
LAST-MODIFIED:20240522T003553Z
UID:1315-1725217200-1725217200@www.sunnyhaven.com
SUMMARY:Poker Party
DESCRIPTION:Come join in the fun!
URL:https://www.sunnyhaven.com/event/poker-party-3/
ATTACH;FMTTYPE=image/png:https://www.sunnyhaven.com/wp-content/uploads/2024/02/poker.png
END:VEVENT
BEGIN:VEVENT
DTSTART;TZID=America/Indiana/Indianapolis:20240901T120000
DTEND;TZID=America/Indiana/Indianapolis:20240901T120000
DTSTAMP:20260423T154005
CREATED:20240706T171701Z
LAST-MODIFIED:20240706T171711Z
UID:1313-1725192000-1725192000@www.sunnyhaven.com
SUMMARY:Yard Games
DESCRIPTION:Yard games with Bob!
URL:https://www.sunnyhaven.com/event/yard-games-2/
CATEGORIES:Games
ATTACH;FMTTYPE=image/jpeg:https://www.sunnyhaven.com/wp-content/uploads/2024/05/ladderball.jpg
END:VEVENT
BEGIN:VEVENT
DTSTART;TZID=America/Indiana/Indianapolis:20240831T200000
DTEND;TZID=America/Indiana/Indianapolis:20240831T200000
DTSTAMP:20260423T154005
CREATED:20240522T003051Z
LAST-MODIFIED:20240603T021734Z
UID:1311-1725134400-1725134400@www.sunnyhaven.com
SUMMARY:Dance
DESCRIPTION:Come out and shake your bootee by the pool to music provided by our very own DJ Mike!
URL:https://www.sunnyhaven.com/event/dance-4/
CATEGORIES:Dance
ATTACH;FMTTYPE=image/jpeg:https://www.sunnyhaven.com/wp-content/uploads/2021/03/25881982-vector-silhouette-dancing-and-entertainers-with-people-.jpg
END:VEVENT
BEGIN:VEVENT
DTSTART;TZID=America/Indiana/Indianapolis:20240831T170000
DTEND;TZID=America/Indiana/Indianapolis:20240831T170000
DTSTAMP:20260423T154005
CREATED:20240522T002904Z
LAST-MODIFIED:20240522T002908Z
UID:1309-1725123600-1725123600@www.sunnyhaven.com
SUMMARY:Park Cookout
DESCRIPTION:Meat and main courses provided by SHRP.  Sides and dessert contributions are encouraged but not required.
URL:https://www.sunnyhaven.com/event/park-cookout-4/
CATEGORIES:Cookout
ATTACH;FMTTYPE=image/jpeg:https://www.sunnyhaven.com/wp-content/uploads/2024/02/cookout.jpg
END:VEVENT
BEGIN:VEVENT
DTSTART;TZID=America/Indiana/Indianapolis:20240830T190000
DTEND;TZID=America/Indiana/Indianapolis:20240830T190000
DTSTAMP:20260423T154005
CREATED:20240522T002659Z
LAST-MODIFIED:20240522T002704Z
UID:1307-1725044400-1725044400@www.sunnyhaven.com
SUMMARY:Petanque Tournament Begins
DESCRIPTION:Come out and join the fun! See who will become this year’s Petanque champs!! An SHRP Favorite!!
URL:https://www.sunnyhaven.com/event/petanque-tournament-begins/
CATEGORIES:Petanque
ATTACH;FMTTYPE=image/jpeg:https://www.sunnyhaven.com/wp-content/uploads/2021/03/the-game-of-petanque-e1620083813642.jpg
END:VEVENT
BEGIN:VEVENT
DTSTART;TZID=America/Indiana/Indianapolis:20240817T200000
DTEND;TZID=America/Indiana/Indianapolis:20240817T200000
DTSTAMP:20260423T154005
CREATED:20240715T175949Z
LAST-MODIFIED:20240715T180216Z
UID:1377-1723924800-1723924800@www.sunnyhaven.com
SUMMARY:Karaoke
DESCRIPTION:Come out and have some fun singing your favorite tunes!  Music provided by our own DJ Mike for some great sunny fun!!!
URL:https://www.sunnyhaven.com/event/karaoke/
CATEGORIES:karaoke
ATTACH;FMTTYPE=image/jpeg:https://www.sunnyhaven.com/wp-content/uploads/2024/07/karaoke.jpg
END:VEVENT
BEGIN:VEVENT
DTSTART;TZID=America/Indiana/Indianapolis:20240817T140000
DTEND;TZID=America/Indiana/Indianapolis:20240817T140000
DTSTAMP:20260423T154005
CREATED:20240512T025747Z
LAST-MODIFIED:20240702T015016Z
UID:1272-1723903200-1723903200@www.sunnyhaven.com
SUMMARY:Wine and Cheese
DESCRIPTION:Bring your favorite bottle of wine (or even beer) and cheeses to share.  Snacks are also very welcome! Mix and mingle\, and find a new favorite!  Location dependent upon weather
URL:https://www.sunnyhaven.com/event/wine-and-cheese-3/
CATEGORIES:Wine and Cheese
END:VEVENT
BEGIN:VEVENT
DTSTART;TZID=America/Indiana/Indianapolis:20240803T200000
DTEND;TZID=America/Indiana/Indianapolis:20240803T200000
DTSTAMP:20260423T154005
CREATED:20240719T180204Z
LAST-MODIFIED:20240719T180214Z
UID:1388-1722715200-1722715200@www.sunnyhaven.com
SUMMARY:Live Band
DESCRIPTION:Come out and shake your bootee to our very own “All In the Family” band!  Hoping the weather cooperates!
URL:https://www.sunnyhaven.com/event/live-band/
CATEGORIES:Dance
ATTACH;FMTTYPE=image/jpeg:https://www.sunnyhaven.com/wp-content/uploads/2021/03/25881982-vector-silhouette-dancing-and-entertainers-with-people-.jpg
END:VEVENT
BEGIN:VEVENT
DTSTART;TZID=America/Indiana/Indianapolis:20240803T170000
DTEND;TZID=America/Indiana/Indianapolis:20240803T170000
DTSTAMP:20260423T154005
CREATED:20240512T025614Z
LAST-MODIFIED:20240512T025617Z
UID:1270-1722704400-1722704400@www.sunnyhaven.com
SUMMARY:Corn and Sausage Roast
DESCRIPTION:Contributions of sides and deserts always appreciated!
URL:https://www.sunnyhaven.com/event/corn-and-sausage-roast/
CATEGORIES:Cookout
END:VEVENT
BEGIN:VEVENT
DTSTART;TZID=America/Indiana/Indianapolis:20240803T120000
DTEND;TZID=America/Indiana/Indianapolis:20240803T120000
DTSTAMP:20260423T154005
CREATED:20240706T170719Z
LAST-MODIFIED:20240706T170728Z
UID:1371-1722686400-1722686400@www.sunnyhaven.com
SUMMARY:Cornhole Tournament
DESCRIPTION:
URL:https://www.sunnyhaven.com/event/cornhole-tournament/
CATEGORIES:Games
ATTACH;FMTTYPE=image/jpeg:https://www.sunnyhaven.com/wp-content/uploads/2024/07/cornhole.jpg
END:VEVENT
BEGIN:VEVENT
DTSTART;TZID=America/Indiana/Indianapolis:20240727T200000
DTEND;TZID=America/Indiana/Indianapolis:20240727T200000
DTSTAMP:20260423T154005
CREATED:20240512T025218Z
LAST-MODIFIED:20240512T025221Z
UID:1266-1722110400-1722110400@www.sunnyhaven.com
SUMMARY:Country Dance
DESCRIPTION:Come out and shake your bootee in your cowboy boots! Music provided by our very own DJ Mike!  Yeehaw!!
URL:https://www.sunnyhaven.com/event/country-dance/
CATEGORIES:Dance
ATTACH;FMTTYPE=image/jpeg:https://www.sunnyhaven.com/wp-content/uploads/2021/03/country-dance-moves.jpg
END:VEVENT
BEGIN:VEVENT
DTSTART;TZID=America/Indiana/Indianapolis:20240727T170000
DTEND;TZID=America/Indiana/Indianapolis:20240727T170000
DTSTAMP:20260423T154005
CREATED:20240512T025057Z
LAST-MODIFIED:20240512T025101Z
UID:1264-1722099600-1722099600@www.sunnyhaven.com
SUMMARY:Chili Cook-off
DESCRIPTION:Check with Cindy for details….
URL:https://www.sunnyhaven.com/event/chili-cook-off/
CATEGORIES:Cookout
END:VEVENT
BEGIN:VEVENT
DTSTART;TZID=America/Indiana/Indianapolis:20240727T120000
DTEND;TZID=America/Indiana/Indianapolis:20240727T120000
DTSTAMP:20260423T154005
CREATED:20240512T024837Z
LAST-MODIFIED:20240512T024841Z
UID:1262-1722081600-1722081600@www.sunnyhaven.com
SUMMARY:Redneck Games
DESCRIPTION:Yeehaw – come have a good ole time!
URL:https://www.sunnyhaven.com/event/redneck-games/
END:VEVENT
BEGIN:VEVENT
DTSTART;TZID=America/Indiana/Indianapolis:20240720T140000
DTEND;TZID=America/Indiana/Indianapolis:20240720T160000
DTSTAMP:20260423T154005
CREATED:20240510T021607Z
LAST-MODIFIED:20240702T014912Z
UID:1232-1721484000-1721491200@www.sunnyhaven.com
SUMMARY:Wine and Cheese
DESCRIPTION:Bring your favorite bottle of wine (or even beer) and cheeses to share.  Snacks are also very welcome! Mix and mingle\, and find a new favorite!  Location is dependent upon weather.
URL:https://www.sunnyhaven.com/event/wine-and-cheese-4/
CATEGORIES:Wine and Cheese
END:VEVENT
BEGIN:VEVENT
DTSTART;TZID=America/Indiana/Indianapolis:20240720T120000
DTEND;TZID=America/Indiana/Indianapolis:20240720T120000
DTSTAMP:20260423T154005
CREATED:20240512T024455Z
LAST-MODIFIED:20240530T000121Z
UID:1259-1721476800-1721476800@www.sunnyhaven.com
SUMMARY:Molkky Tournament
DESCRIPTION:A fun new yard game – come try your luck!!
URL:https://www.sunnyhaven.com/event/mulkey-tournament/
CATEGORIES:Games
END:VEVENT
BEGIN:VEVENT
DTSTART;TZID=America/Indiana/Indianapolis:20240717T120000
DTEND;TZID=America/Indiana/Indianapolis:20240717T120000
DTSTAMP:20260423T154005
CREATED:20240702T014051Z
LAST-MODIFIED:20240702T014803Z
UID:1354-1721217600-1721217600@www.sunnyhaven.com
SUMMARY:4th Annual Pool Party
DESCRIPTION:The 4th Annual Pool Party sponsored by Rick & Trish and Larry & Edna will be on Wednesday\, July 17 starting at noon\, eating around 1:00 pm. Music will be provided by our own DJ Mike H! Please bring a side dish to share\, Rick will be grilling! Join us for some fun all afternoon.
URL:https://www.sunnyhaven.com/event/4th-annual-pool-party/
CATEGORIES:Cookout,Pool Party
ATTACH;FMTTYPE=image/png:https://www.sunnyhaven.com/wp-content/uploads/2024/05/image-6.png
END:VEVENT
BEGIN:VEVENT
DTSTART;TZID=America/Indiana/Indianapolis:20240713T200000
DTEND;TZID=America/Indiana/Indianapolis:20240713T200000
DTSTAMP:20260423T154005
CREATED:20240512T023902Z
LAST-MODIFIED:20240706T172133Z
UID:1255-1720900800-1720900800@www.sunnyhaven.com
SUMMARY:Bucket Party with Music
DESCRIPTION:Come join us by the bonfire for President Jim’s yearly bucket party! Contributions of snacks always welcome!
URL:https://www.sunnyhaven.com/event/bucket-party-with-music/
CATEGORIES:Social Mixer
ATTACH;FMTTYPE=image/jpeg:https://www.sunnyhaven.com/wp-content/uploads/2021/03/BucketParty.jpg
END:VEVENT
BEGIN:VEVENT
DTSTART;TZID=America/Indiana/Indianapolis:20240713T180000
DTEND;TZID=America/Indiana/Indianapolis:20240713T180000
DTSTAMP:20260423T154005
CREATED:20240512T024319Z
LAST-MODIFIED:20240706T165607Z
UID:1257-1720893600-1720893600@www.sunnyhaven.com
SUMMARY:Pool Games
DESCRIPTION:It’s a splashing good time!
URL:https://www.sunnyhaven.com/event/pool-games/
ATTACH;FMTTYPE=image/png:https://www.sunnyhaven.com/wp-content/uploads/2024/05/image-6.png
END:VEVENT
BEGIN:VEVENT
DTSTART;TZID=America/Indiana/Indianapolis:20240707T140000
DTEND;TZID=America/Indiana/Indianapolis:20240707T140000
DTSTAMP:20260423T154005
CREATED:20240512T023408Z
LAST-MODIFIED:20240701T221609Z
UID:1253-1720360800-1720360800@www.sunnyhaven.com
SUMMARY:Poker Party
DESCRIPTION:Come join in the fun!
URL:https://www.sunnyhaven.com/event/poker-party-2/
ATTACH;FMTTYPE=image/png:https://www.sunnyhaven.com/wp-content/uploads/2024/02/poker.png
END:VEVENT
BEGIN:VEVENT
DTSTART;TZID=America/Indiana/Indianapolis:20240707T130000
DTEND;TZID=America/Indiana/Indianapolis:20240707T140000
DTSTAMP:20260423T154005
CREATED:20240512T023202Z
LAST-MODIFIED:20240701T221428Z
UID:1251-1720357200-1720360800@www.sunnyhaven.com
SUMMARY:Golf Cart Parade
DESCRIPTION:Decorate your golf cart and join the fun! Judging will be next to the pool deck.
URL:https://www.sunnyhaven.com/event/golf-cart-parade/
END:VEVENT
BEGIN:VEVENT
DTSTART;TZID=America/Indiana/Indianapolis:20240706T200000
DTEND;TZID=America/Indiana/Indianapolis:20240706T200000
DTSTAMP:20260423T154005
CREATED:20240512T023033Z
LAST-MODIFIED:20240704T023907Z
UID:1249-1720296000-1720296000@www.sunnyhaven.com
SUMMARY:Dance
DESCRIPTION:Come out and shake your bootee to music provided by DJ Mike by the pool!
URL:https://www.sunnyhaven.com/event/dance-3/
CATEGORIES:Dance
ATTACH;FMTTYPE=image/jpeg:https://www.sunnyhaven.com/wp-content/uploads/2021/03/25881982-vector-silhouette-dancing-and-entertainers-with-people-.jpg
END:VEVENT
BEGIN:VEVENT
DTSTART;TZID=America/Indiana/Indianapolis:20240706T170000
DTEND;TZID=America/Indiana/Indianapolis:20240706T170000
DTSTAMP:20260423T154005
CREATED:20240512T022905Z
LAST-MODIFIED:20240512T022908Z
UID:1247-1720285200-1720285200@www.sunnyhaven.com
SUMMARY:Park cookout
DESCRIPTION:Meat and main courses provided by SHRP.  Sides and dessert contributions are encouraged but not required.
URL:https://www.sunnyhaven.com/event/park-cookout-3/
CATEGORIES:Cookout
ATTACH;FMTTYPE=image/jpeg:https://www.sunnyhaven.com/wp-content/uploads/2024/02/cookout.jpg
END:VEVENT
BEGIN:VEVENT
DTSTART;TZID=America/Indiana/Indianapolis:20240706T130000
DTEND;TZID=America/Indiana/Indianapolis:20240706T130000
DTSTAMP:20260423T154005
CREATED:20240512T022728Z
LAST-MODIFIED:20240701T223532Z
UID:1245-1720270800-1720270800@www.sunnyhaven.com
SUMMARY:Bazaar
DESCRIPTION:$10 for a space – Setup starts at noon – sponsored by Jay – contact her for any questions
URL:https://www.sunnyhaven.com/event/bazaar/
END:VEVENT
BEGIN:VEVENT
DTSTART;TZID=America/Indiana/Indianapolis:20240629T200000
DTEND;TZID=America/Indiana/Indianapolis:20240629T235500
DTSTAMP:20260423T154005
CREATED:20240512T021852Z
LAST-MODIFIED:20240602T002955Z
UID:1239-1719691200-1719705300@www.sunnyhaven.com
SUMMARY:Dance
DESCRIPTION:Come out and shake your bootee by the pool to live music provided by our very own Fam Jam band!
URL:https://www.sunnyhaven.com/event/dance-2/
CATEGORIES:Dance
ATTACH;FMTTYPE=image/jpeg:https://www.sunnyhaven.com/wp-content/uploads/2021/03/25881982-vector-silhouette-dancing-and-entertainers-with-people-.jpg
END:VEVENT
BEGIN:VEVENT
DTSTART;TZID=America/Indiana/Indianapolis:20240629T170000
DTEND;TZID=America/Indiana/Indianapolis:20240629T190000
DTSTAMP:20260423T154005
CREATED:20240512T021631Z
LAST-MODIFIED:20240605T144856Z
UID:1237-1719680400-1719687600@www.sunnyhaven.com
SUMMARY:Hippie Hog Roast
DESCRIPTION:Catered  by WoodStock & Grill.  Menu with prices will be posted around the park. Contributions of sides and deserts always appreciated!
URL:https://www.sunnyhaven.com/event/hog-roast/
ATTACH;FMTTYPE=image/jpeg:https://www.sunnyhaven.com/wp-content/uploads/2024/05/hippiehogroast.jpg
END:VEVENT
BEGIN:VEVENT
DTSTART;TZID=America/Indiana/Indianapolis:20240629T120000
DTEND;TZID=America/Indiana/Indianapolis:20240629T120000
DTSTAMP:20260423T154005
CREATED:20240522T000232Z
LAST-MODIFIED:20240522T001047Z
UID:1288-1719662400-1719662400@www.sunnyhaven.com
SUMMARY:Yard Games
DESCRIPTION:Come have fun playing yard games with Bob!
URL:https://www.sunnyhaven.com/event/yard-games/
CATEGORIES:Games
ATTACH;FMTTYPE=image/jpeg:https://www.sunnyhaven.com/wp-content/uploads/2024/05/ladderball.jpg
END:VEVENT
BEGIN:VEVENT
DTSTART;TZID=America/Indiana/Indianapolis:20240622T210000
DTEND;TZID=America/Indiana/Indianapolis:20240622T210000
DTSTAMP:20260423T154005
CREATED:20240521T233649Z
LAST-MODIFIED:20240522T001152Z
UID:1286-1719090000-1719090000@www.sunnyhaven.com
SUMMARY:Movie Night
DESCRIPTION:Bring your golf cart\, chair or blanket\, and enjoy an outdoor movie in the commons area. Sponsored by Johnathon. Time is 9ish\, depending on time of sunset
URL:https://www.sunnyhaven.com/event/movie-night-2/
CATEGORIES:Outdoor Movie
ATTACH;FMTTYPE=image/png:https://www.sunnyhaven.com/wp-content/uploads/2024/05/image-5.png
END:VEVENT
BEGIN:VEVENT
DTSTART;TZID=America/Indiana/Indianapolis:20240622T130000
DTEND;TZID=America/Indiana/Indianapolis:20240622T150000
DTSTAMP:20260423T154005
CREATED:20240602T025825Z
LAST-MODIFIED:20240605T151958Z
UID:1284-1719061200-1719068400@www.sunnyhaven.com
SUMMARY:Pine Cone Craft
DESCRIPTION:Sponsored by Jackie
URL:https://www.sunnyhaven.com/event/pine-cone-craft/
CATEGORIES:Craft
ATTACH;FMTTYPE=image/jpeg:https://www.sunnyhaven.com/wp-content/uploads/2024/06/pinecone.jpg
END:VEVENT
BEGIN:VEVENT
DTSTART;TZID=America/Indiana/Indianapolis:20240622T090000
DTEND;TZID=America/Indiana/Indianapolis:20240622T113000
DTSTAMP:20260423T154005
CREATED:20240521T234940Z
LAST-MODIFIED:20240620T174756Z
UID:1292-1719046800-1719055800@www.sunnyhaven.com
SUMMARY:Biscuit and Gravy Cook-Off Breakfast Gathering
DESCRIPTION:Our first biscuit and gravy cook-off contest! We will serve eggs and bacon\, mimosas\, and bloody Mary/Maria’s. (cost $5 without booze\, $10 with) If you have an issue with the cost\, see Cindy.
URL:https://www.sunnyhaven.com/event/gmm-breakfast-gathering/
ATTACH;FMTTYPE=image/jpeg:https://www.sunnyhaven.com/wp-content/uploads/2024/05/bandg.jpg
END:VEVENT
END:VCALENDAR