BEGIN:VCALENDAR
VERSION:2.0
PRODID:-//Sunny Haven - ECPv6.15.20//NONSGML v1.0//EN
CALSCALE:GREGORIAN
METHOD:PUBLISH
X-ORIGINAL-URL:https://www.sunnyhaven.com
X-WR-CALDESC:Events for Sunny Haven
REFRESH-INTERVAL;VALUE=DURATION:PT1H
X-Robots-Tag:noindex
X-PUBLISHED-TTL:PT1H
BEGIN:VTIMEZONE
TZID:America/Indiana/Indianapolis
BEGIN:DAYLIGHT
TZOFFSETFROM:-0500
TZOFFSETTO:-0400
TZNAME:EDT
DTSTART:20230312T070000
END:DAYLIGHT
BEGIN:STANDARD
TZOFFSETFROM:-0400
TZOFFSETTO:-0500
TZNAME:EST
DTSTART:20231105T060000
END:STANDARD
BEGIN:DAYLIGHT
TZOFFSETFROM:-0500
TZOFFSETTO:-0400
TZNAME:EDT
DTSTART:20240310T070000
END:DAYLIGHT
BEGIN:STANDARD
TZOFFSETFROM:-0400
TZOFFSETTO:-0500
TZNAME:EST
DTSTART:20241103T060000
END:STANDARD
BEGIN:DAYLIGHT
TZOFFSETFROM:-0500
TZOFFSETTO:-0400
TZNAME:EDT
DTSTART:20250309T070000
END:DAYLIGHT
BEGIN:STANDARD
TZOFFSETFROM:-0400
TZOFFSETTO:-0500
TZNAME:EST
DTSTART:20251102T060000
END:STANDARD
END:VTIMEZONE
BEGIN:VEVENT
DTSTART;TZID=America/Indiana/Indianapolis:20240525T080000
DTEND;TZID=America/Indiana/Indianapolis:20240525T170000
DTSTAMP:20260423T205448
CREATED:20240510T003105Z
LAST-MODIFIED:20240510T004303Z
UID:1207-1716624000-1716656400@www.sunnyhaven.com
SUMMARY:Olympics
DESCRIPTION:Come join the fun with the SHRP Nude Olympics!
URL:https://www.sunnyhaven.com/event/olympics/
END:VEVENT
BEGIN:VEVENT
DTSTART;TZID=America/Indiana/Indianapolis:20240518T140000
DTEND;TZID=America/Indiana/Indianapolis:20240518T150000
DTSTAMP:20260423T205448
CREATED:20240510T002558Z
LAST-MODIFIED:20240510T002602Z
UID:1204-1716040800-1716044400@www.sunnyhaven.com
SUMMARY:Wine and Cheese
DESCRIPTION:Bring your favorite bottle of wine or even beer and cheeses to share.  Snacks are also very welcome! Mix and mingle\, and find a new favorite!  Location dependent upon weather.
URL:https://www.sunnyhaven.com/event/wine-and-cheese-2/
CATEGORIES:Wine and Cheese
END:VEVENT
BEGIN:VEVENT
DTSTART;TZID=America/Indiana/Indianapolis:20240517T080000
DTEND;TZID=America/Indiana/Indianapolis:20240517T220000
DTSTAMP:20260423T205448
CREATED:20240510T010729Z
LAST-MODIFIED:20240510T010733Z
UID:1225-1715932800-1715983200@www.sunnyhaven.com
SUMMARY:Petanque
DESCRIPTION:Come join us at the petanque court every Friday night! If you’ve never played\, no problem\, we will be happy to teach you! It’s a pretty easy game to learn and TONS of fun!!
URL:https://www.sunnyhaven.com/event/petanque-2/
CATEGORIES:Petanque
ATTACH;FMTTYPE=image/jpeg:https://www.sunnyhaven.com/wp-content/uploads/2021/03/the-game-of-petanque-e1620083813642.jpg
END:VEVENT
BEGIN:VEVENT
DTSTART;TZID=America/Indiana/Indianapolis:20240510T200000
DTEND;TZID=America/Indiana/Indianapolis:20240510T220000
DTSTAMP:20260423T205448
CREATED:20240510T010543Z
LAST-MODIFIED:20240510T010547Z
UID:1223-1715371200-1715378400@www.sunnyhaven.com
SUMMARY:Petanque
DESCRIPTION:Come join us at the petanque court every Friday night! If you’ve never played\, no problem\, we will be happy to teach you! It’s a pretty easy game to learn and TONS of fun!!
URL:https://www.sunnyhaven.com/event/petanque/
CATEGORIES:Petanque
ATTACH;FMTTYPE=image/jpeg:https://www.sunnyhaven.com/wp-content/uploads/2021/03/the-game-of-petanque-e1620083813642.jpg
END:VEVENT
BEGIN:VEVENT
DTSTART;TZID=America/Indiana/Indianapolis:20240504T170000
DTEND;TZID=America/Indiana/Indianapolis:20240504T200000
DTSTAMP:20260423T205448
CREATED:20240503T030642Z
LAST-MODIFIED:20240503T031425Z
UID:1192-1714842000-1714852800@www.sunnyhaven.com
SUMMARY:Last Potluck Until Fall
DESCRIPTION:Cinco de Mayo Theme Bring your favorite dish to share! Spend some time mingling and enjoying some yummy food and drink.
URL:https://www.sunnyhaven.com/event/last-potluck-until-fall/
END:VEVENT
BEGIN:VEVENT
DTSTART;TZID=America/Indiana/Indianapolis:20240503T200000
DTEND;TZID=America/Indiana/Indianapolis:20240503T220000
DTSTAMP:20260423T205448
CREATED:20240503T025558Z
LAST-MODIFIED:20240503T031916Z
UID:1183-1714766400-1714773600@www.sunnyhaven.com
SUMMARY:Meet & Greet
DESCRIPTION:Mix and mingle at the bonfire to meet new friends and catch up with old!!  The first Friday of every month.
URL:https://www.sunnyhaven.com/event/meet-greet/
END:VEVENT
END:VCALENDAR